BEGIN:VCALENDAR
VERSION:2.0
PRODID:-//ChamberMaster//Event Calendar 2.0//EN
METHOD:PUBLISH
X-PUBLISHED-TTL:P3D
REFRESH-INTERVAL:P3D
CALSCALE:GREGORIAN
BEGIN:VEVENT
DTSTART:20150715T160000Z
DTEND:20150715T170000Z
X-MICROSOFT-CDO-ALLDAYEVENT:FALSE
SUMMARY:RC: Roman Photography
DESCRIPTION:Join us for a Ribbon Cutting Ceremony at Roman Photography! Check out their new location in Downtown Kearney! Meet Adam and Stephanie and their little boy Roman and learn all about their photography business!
X-ALT-DESC;FMTTYPE=text/html:Join us for a&nbsp\;Ribbon Cutting Ceremony at Roman Photography! Check out their new location in Downtown Kearney! Meet Adam and Stephanie and their little boy Roman and learn all about their photography business!
LOCATION:1919 Central Ave
UID:e.1404.6473
SEQUENCE:3
DTSTAMP:20260422T152517Z
URL:https://chambermaster.kearneycoc.org/events/details/rc-roman-photography-07-15-2015-6473
END:VEVENT

END:VCALENDAR
