BEGIN:VCALENDAR
VERSION:2.0
PRODID:-//ChamberMaster//Event Calendar 2.0//EN
METHOD:PUBLISH
X-PUBLISHED-TTL:P3D
REFRESH-INTERVAL:P3D
CALSCALE:GREGORIAN
BEGIN:VEVENT
DTSTART:20150423T180000Z
DTEND:20150423T183000Z
X-MICROSOFT-CDO-ALLDAYEVENT:FALSE
SUMMARY:RC: Sears Hometown Store
DESCRIPTION:The Ribbon Cutting Ceremony will kick off the remodel and introduce the America's Appliance Experts to the community
X-ALT-DESC;FMTTYPE=text/html:<span style="font-size: 10pt\; font-family: Tahoma\, sans-serif\;">The Ribbon Cutting Ceremony will kick off the remodel and introduce the America&#39\;s Appliance Experts to the community</span>
LOCATION:Sears Hometown Store 5804 2nd Avenue
UID:e.1404.6213
SEQUENCE:3
DTSTAMP:20260422T195435Z
URL:https://chambermaster.kearneycoc.org/events/details/rc-sears-hometown-store-04-23-2015-6213
END:VEVENT

END:VCALENDAR
