BEGIN:VCALENDAR
VERSION:2.0
PRODID:-//ChamberMaster//Event Calendar 2.0//EN
METHOD:PUBLISH
X-PUBLISHED-TTL:P3D
REFRESH-INTERVAL:P3D
CALSCALE:GREGORIAN
BEGIN:VEVENT
DTSTART:20150708T133000Z
DTEND:20150708T140000Z
X-MICROSOFT-CDO-ALLDAYEVENT:FALSE
SUMMARY:RC: Shelter Insurance Heather Crowley
DESCRIPTION:Join us for a Ribbon Cutting Ceremony for Shelter Insurance-Heather Crowley's new business location!
X-ALT-DESC;FMTTYPE=text/html:Join us for a Ribbon Cutting Ceremony for Shelter Insurance-Heather Crowley&#39\;s new business location!
LOCATION:3905 N 2nd Ave Ste 4
UID:e.1404.6474
SEQUENCE:3
DTSTAMP:20260422T152421Z
URL:https://chambermaster.kearneycoc.org/events/details/rc-shelter-insurance-heather-crowley-07-08-2015-6474
END:VEVENT

END:VCALENDAR
