BEGIN:VCALENDAR
VERSION:2.0
PRODID:-//ChamberMaster//Event Calendar 2.0//EN
METHOD:PUBLISH
X-PUBLISHED-TTL:P3D
REFRESH-INTERVAL:P3D
CALSCALE:GREGORIAN
BEGIN:VEVENT
DTSTART:20140811T213000Z
DTEND:20140811T220000Z
X-MICROSOFT-CDO-ALLDAYEVENT:FALSE
SUMMARY:RC: Skate Park
DESCRIPTION:Come and Celebrate the completion of the best skate park in the region!
X-ALT-DESC;FMTTYPE=text/html:Come and Celebrate the completion of the best skate park in the region!
LOCATION:33rd and 6th Street Apollo Park
UID:e.1404.5301
SEQUENCE:3
DTSTAMP:20260423T100156Z
URL:https://chambermaster.kearneycoc.org/events/details/rc-skate-park-08-11-2014-5301
END:VEVENT

END:VCALENDAR
