BEGIN:VCALENDAR
VERSION:2.0
PRODID:-//ChamberMaster//Event Calendar 2.0//EN
METHOD:PUBLISH
X-PUBLISHED-TTL:P3D
REFRESH-INTERVAL:P3D
CALSCALE:GREGORIAN
BEGIN:VEVENT
DTSTART:20210804T210000Z
DTEND:20210804T220000Z
X-MICROSOFT-CDO-ALLDAYEVENT:FALSE
SUMMARY:RC - Smallcakes of Kearney
DESCRIPTION:Join us for a Ribbon Cutting to celebrate Smallcakes new location in Kearney!
X-ALT-DESC;FMTTYPE=text/html:Join us for a Ribbon Cutting to celebrate Smallcakes new location in Kearney!
LOCATION:2222 2nd Ave Suite 100 Kearney\, NE 68845
UID:e.1404.19355
SEQUENCE:3
DTSTAMP:20260424T035755Z
URL:https://chambermaster.kearneycoc.org/events/details/rc-smallcakes-of-kearney-19355
END:VEVENT

END:VCALENDAR
