BEGIN:VCALENDAR
VERSION:2.0
PRODID:-//ChamberMaster//Event Calendar 2.0//EN
METHOD:PUBLISH
X-PUBLISHED-TTL:P3D
REFRESH-INTERVAL:P3D
CALSCALE:GREGORIAN
BEGIN:VEVENT
DTSTART:20200821T200000Z
DTEND:20200821T210000Z
X-MICROSOFT-CDO-ALLDAYEVENT:FALSE
SUMMARY:RC - Steinbrink Landscaping & Greenhouses
DESCRIPTION:Join us to see all the updates at Steinbrink Landscaping & Greenhouses!
X-ALT-DESC;FMTTYPE=text/html:Join us to see all the updates at <a href="https://steinbrink.com/">Steinbrink Landscaping &amp\; Greenhouses</a>!
LOCATION:2010 30th Ave Kearney NE
UID:e.1404.18379
SEQUENCE:3
DTSTAMP:20260425T020721Z
URL:https://chambermaster.kearneycoc.org/events/details/rc-steinbrink-landscaping-greenhouses-18379
END:VEVENT

END:VCALENDAR
