BEGIN:VCALENDAR
VERSION:2.0
PRODID:-//ChamberMaster//Event Calendar 2.0//EN
METHOD:PUBLISH
X-PUBLISHED-TTL:P3D
REFRESH-INTERVAL:P3D
CALSCALE:GREGORIAN
BEGIN:VEVENT
DTSTART:20220609T213000Z
DTEND:20220609T223000Z
X-MICROSOFT-CDO-ALLDAYEVENT:FALSE
SUMMARY:RC - Studio B Design\, Inc.
DESCRIPTION:Join us for a Ribbon Cutting ceremony and Open House to celebrate the new location of Studio B Design!
X-ALT-DESC;FMTTYPE=text/html:Join us for a Ribbon Cutting ceremony and Open House to celebrate the new location of Studio B Design!&nbsp\;
LOCATION:3210 Antelope Ave. Suite C Kearney\, NE 68847
UID:e.1404.19644
SEQUENCE:3
DTSTAMP:20260423T115415Z
URL:https://chambermaster.kearneycoc.org/events/details/rc-studio-b-design-inc-19644
END:VEVENT

END:VCALENDAR
