BEGIN:VCALENDAR
VERSION:2.0
PRODID:-//ChamberMaster//Event Calendar 2.0//EN
METHOD:PUBLISH
X-PUBLISHED-TTL:P3D
REFRESH-INTERVAL:P3D
CALSCALE:GREGORIAN
BEGIN:VEVENT
DTSTART:20200922T210000Z
DTEND:20200922T220000Z
X-MICROSOFT-CDO-ALLDAYEVENT:FALSE
SUMMARY:RC - The Crafty Dog Sports Bar
DESCRIPTION:Join us for a Ribbon Cutting ceremony for The Crafty Dog Sports Bar!
X-ALT-DESC;FMTTYPE=text/html:Join us for a Ribbon Cutting ceremony for <a href="https://www.facebook.com/thecraftydogkearney">The Crafty Dog Sports Bar</a>!
LOCATION:1325 2nd Ave
UID:e.1404.18713
SEQUENCE:3
DTSTAMP:20260425T002629Z
URL:https://chambermaster.kearneycoc.org/events/details/rc-the-crafty-dog-sports-bar-18713
END:VEVENT

END:VCALENDAR
