BEGIN:VCALENDAR
VERSION:2.0
PRODID:-//ChamberMaster//Event Calendar 2.0//EN
METHOD:PUBLISH
X-PUBLISHED-TTL:P3D
REFRESH-INTERVAL:P3D
CALSCALE:GREGORIAN
BEGIN:VEVENT
DTSTART:20160310T163000Z
DTEND:20160310T170000Z
X-MICROSOFT-CDO-ALLDAYEVENT:FALSE
SUMMARY:RC: The Food Truck Cafe
DESCRIPTION:Join us for a Ribbon Cutting Ceremony at the newest cafe in town! The Food Truck Cafe. Michael Park is also owner of the very popular Food Truck and Park Place Catering. Come check his new place out!
X-ALT-DESC;FMTTYPE=text/html:Join us for a Ribbon Cutting Ceremony at the newest cafe in town! The Food Truck Cafe. Michael Park is also owner of the very popular Food Truck and Park Place Catering. Come check his new place out!
LOCATION:3324 2nd Avenue
UID:e.1404.7527
SEQUENCE:3
DTSTAMP:20260422T012341Z
URL:https://chambermaster.kearneycoc.org/events/details/rc-the-food-truck-cafe-03-10-2016-7527
END:VEVENT

END:VCALENDAR
