BEGIN:VCALENDAR
VERSION:2.0
PRODID:-//ChamberMaster//Event Calendar 2.0//EN
METHOD:PUBLISH
X-PUBLISHED-TTL:P3D
REFRESH-INTERVAL:P3D
CALSCALE:GREGORIAN
BEGIN:VEVENT
DTSTART:20200102T180000Z
DTEND:20200102T183000Z
X-MICROSOFT-CDO-ALLDAYEVENT:FALSE
SUMMARY:RC - The Hive at the Hilltop Mall
DESCRIPTION:Please join us for a Ribbon Cutting ceremony for the The Hive.
X-ALT-DESC;FMTTYPE=text/html:Please join us for a Ribbon Cutting ceremony for the <a href="https://www.facebook.com/TheHiveKearney/">The Hive</a>.
LOCATION:The Hive (across from Hilltop 4 Theatre) in the Hilltop Mall 5011 2nd Ave
UID:e.1404.18287
SEQUENCE:3
DTSTAMP:20260425T133155Z
URL:https://chambermaster.kearneycoc.org/events/details/rc-the-hive-at-the-hilltop-mall-18287
END:VEVENT

END:VCALENDAR
