BEGIN:VCALENDAR
VERSION:2.0
PRODID:-//ChamberMaster//Event Calendar 2.0//EN
METHOD:PUBLISH
X-PUBLISHED-TTL:P3D
REFRESH-INTERVAL:P3D
CALSCALE:GREGORIAN
BEGIN:VEVENT
DTSTART:20220729T150000Z
DTEND:20220729T160000Z
X-MICROSOFT-CDO-ALLDAYEVENT:FALSE
SUMMARY:RC The Spa Esthetics & Massage
DESCRIPTION:Join us to celebrate the opening of The Spa Esthetics & Massage!
X-ALT-DESC;FMTTYPE=text/html:Join us to celebrate the opening of The Spa Esthetics &amp\; Massage!
LOCATION:4010 6th Avenue Suite B Kearney\, NE 68845
UID:e.1404.19967
SEQUENCE:3
DTSTAMP:20260421T133104Z
URL:https://chambermaster.kearneycoc.org/events/details/rc-the-spa-esthetics-massage-19967
END:VEVENT

END:VCALENDAR
