BEGIN:VCALENDAR
VERSION:2.0
PRODID:-//ChamberMaster//Event Calendar 2.0//EN
METHOD:PUBLISH
X-PUBLISHED-TTL:P3D
REFRESH-INTERVAL:P3D
CALSCALE:GREGORIAN
BEGIN:VEVENT
DTSTART:20190912T183000Z
DTEND:20190912T190000Z
X-MICROSOFT-CDO-ALLDAYEVENT:FALSE
SUMMARY:RC - University of Nebraska Federal Credit Union
DESCRIPTION:Join us for a Ribbon Cutting ceremony for the University of Nebraska Federal Credit Union's new location!!
X-ALT-DESC;FMTTYPE=text/html:Join us for a Ribbon Cutting ceremony for the University of Nebraska Federal Credit Union&#39\;s new location!!
LOCATION:208 W 29th St.\, Suite C
UID:e.1404.16589
SEQUENCE:3
DTSTAMP:20260425T195737Z
URL:https://chambermaster.kearneycoc.org/events/details/rc-university-of-nebraska-federal-credit-union-09-12-2019-16589
END:VEVENT

END:VCALENDAR
