BEGIN:VCALENDAR
VERSION:2.0
PRODID:-//ChamberMaster//Event Calendar 2.0//EN
METHOD:PUBLISH
X-PUBLISHED-TTL:P3D
REFRESH-INTERVAL:P3D
CALSCALE:GREGORIAN
BEGIN:VEVENT
DTSTART:20200208T190000Z
DTEND:20200208T220000Z
X-MICROSOFT-CDO-ALLDAYEVENT:FALSE
SUMMARY:Reception for "Essential Yet Unseen: Servant Life in the 1890s"
DESCRIPTION:Join us February 8th for a reception at the G.W. Frank Museum of History and Culture to officially unveil our new permanent exhibit: "Essential Yet Unseen: Servant Life in the 1890s." This unique exhibit offers visitors a chance to step back in time into a recreated 1890s servant's quarters. The exhibit will provide an intimate glimpse into the private\, everyday lives of these essential\, yet traditionally "unseen\," people that worked and lived at the Frank family home. Come see and imagine what life was like for a major part of Kearney's late nineteenth century population! Free and open to the public\, refreshments served. Remarks by UNK's College of Arts and Sciences' Dean Ryan Teten at 2:00pm.
X-ALT-DESC;FMTTYPE=text/html:Join us February 8th for a reception at the G.W. Frank Museum of History and Culture to officially unveil our new permanent exhibit: &quot\;Essential Yet Unseen: Servant Life in the 1890s.&quot\; This unique exhibit offers visitors a chance to step back in time into a recreated 1890s servant&#39\;s quarters. The exhibit will provide an intimate glimpse into the private\, everyday lives of these essential\, yet traditionally &quot\;unseen\,&quot\; people that worked and lived at the Frank family home. Come see and imagine what life was like for a major part of Kearney&#39\;s late nineteenth century population! Free and open to the public\, refreshments served. Remarks by UNK&#39\;s College of Arts and Sciences&#39\; Dean Ryan Teten at 2:00pm.
LOCATION:G.W. Frank Museum of History and Culture\, 2010 University Dr.\, UNK Campus\, Kearney\, NE 68849
UID:e.1404.18336
SEQUENCE:3
DTSTAMP:20260425T114141Z
URL:https://chambermaster.kearneycoc.org/events/details/reception-for-essential-yet-unseen-servant-life-in-the-1890s-18336
END:VEVENT

END:VCALENDAR
