BEGIN:VCALENDAR
VERSION:2.0
PRODID:-//ChamberMaster//Event Calendar 2.0//EN
METHOD:PUBLISH
X-PUBLISHED-TTL:P3D
REFRESH-INTERVAL:P3D
CALSCALE:GREGORIAN
BEGIN:VEVENT
DTSTART:20150919T140000Z
DTEND:20150919T170000Z
X-MICROSOFT-CDO-ALLDAYEVENT:FALSE
SUMMARY:Red Kettle Run Kearney
DESCRIPTION:From Thanksgiving to Christmas Eve   the ring of a Salvation Army bell outside storefronts is part of the holiday season as much as a jolly greeting from a white-bearded man. However\, to address ongoing community needs throughout the year such as warm meals\, clothing\, housing\, disaster relief\, and much more   the time of giving needs to extend beyond the holiday season.\n\n\n\nThe NMC Foundation is proud to sponsor the first annual Red Kettle Run at Yanney Park in Kearney\, Nebraska. Runners   and walkers   should have their tennis shoes laced up before the starting pistol goes off at 9am on Saturday\, September 19th. The entry fee for the 5K run and walk is a $10 donation or 10 non-perishable food items. This event is a great opportunity to raise funds and stock the Salvation Army's pantry shelves for those in need in the Kearney community.\n\n\n\nThroughout the event there will be refreshments provided. And\, if you've ever wanted the chance to catch a flapjack in midair   the Pancake Man will be on site to dish them out.\n\n\n\nThe Red Kettle Run and Walk is a race with no medals for first place\; however\, everyone who participates can feel like they won since they'll be making a difference for those in need.\n\n\n\nTo register for the September 19th Red Kettle Run and be a part of this fun-filled\, charitable event   please click here: https://redkettlerunkearney.eventbrite.com
X-ALT-DESC;FMTTYPE=text/html:From Thanksgiving to Christmas Eve &ndash\; the ring of a Salvation Army bell outside storefronts is part of the holiday season as much as a jolly greeting from a white-bearded man. However\, to address ongoing community needs throughout the year such as warm meals\, clothing\, housing\, disaster relief\, and much more &ndash\; the time of giving needs to extend beyond the holiday season.<br />\n<br />\nThe NMC Foundation is proud to sponsor the first annual Red Kettle Run at Yanney Park in Kearney\, Nebraska. Runners &ndash\; and walkers &ndash\; should have their tennis shoes laced up before the starting pistol goes off at 9am on Saturday\, September 19<sup>th</sup>. The entry fee for the 5K run and walk is a $10 donation or 10 non-perishable food items. This event is a great opportunity to raise funds and stock the Salvation Army&rsquo\;s pantry shelves for those in need in the Kearney community.<br />\n<br />\nThroughout the event there will be refreshments provided. And\, if you&rsquo\;ve ever wanted the chance to catch a flapjack in midair &ndash\; the Pancake Man will be on site to dish them out.<br />\n<br />\nThe Red Kettle Run and Walk is a race with no medals for first place\; however\, everyone who participates can feel like they won since they&rsquo\;ll be making a difference for those in need.<br />\n<br />\nTo register for the September 19<sup>th</sup> Red Kettle Run and be a part of this fun-filled\, charitable event &ndash\; please click here:&nbsp\;<a href="https://redkettlerunkearney.eventbrite.com/">https://redkettlerunkearney.eventbrite.com</a>
LOCATION:Yanney Heritage Park 2020 W. 11th St.
UID:e.1404.6727
SEQUENCE:3
DTSTAMP:20260422T114531Z
URL:https://chambermaster.kearneycoc.org/events/details/red-kettle-run-kearney-09-19-2015-6727
END:VEVENT

END:VCALENDAR
