BEGIN:VCALENDAR
VERSION:2.0
PRODID:-//ChamberMaster//Event Calendar 2.0//EN
METHOD:PUBLISH
X-PUBLISHED-TTL:P3D
REFRESH-INTERVAL:P3D
CALSCALE:GREGORIAN
BEGIN:VEVENT
DTSTART:20190122T160000Z
DTEND:20190407T220000Z
X-MICROSOFT-CDO-ALLDAYEVENT:FALSE
SUMMARY:Reece Crawford: Visions of a Community
DESCRIPTION:Reece Crawford: Visions of a Community January 22   April 7\, 2019 From the late 1980s to the mid '90s\, self-taught artist Reece Crawford awoke to "visions" of the people in her North Omaha community and felt compelled to make small sculptures of them. Created over the span of a few short years\, the resulting vibrant\, colorful\, animated works are an ode to the artist's "hood\," as she called it. Crawford found inspiration from African and American history as well as her imagination. This exhibition brings together 18 of her works from the MONA collection\, including recent gifts by long-time friend and art associate\, Judith Shepard.
X-ALT-DESC;FMTTYPE=text/html:Reece Crawford: Visions of a Community January 22 &ndash\; April 7\, 2019 From the late 1980s to the mid &lsquo\;90s\, self-taught artist Reece Crawford awoke to &ldquo\;visions&rdquo\; of the people in her North Omaha community and felt compelled to make small sculptures of them. Created over the span of a few short years\, the resulting vibrant\, colorful\, animated works are an ode to the artist&rsquo\;s &ldquo\;hood\,&rdquo\; as she called it. Crawford found inspiration from African and American history as well as her imagination. This exhibition brings together 18 of her works from the MONA collection\, including recent gifts by long-time friend and art associate\, Judith Shepard.
LOCATION:Museum of Nebraska Art 2401 Central Avenue Kearney\, NE 68847
UID:e.1404.14431
SEQUENCE:3
DTSTAMP:20260426T033338Z
URL:https://chambermaster.kearneycoc.org/events/details/reece-crawford-visions-of-a-community-14431
END:VEVENT

END:VCALENDAR
