BEGIN:VCALENDAR
VERSION:2.0
PRODID:-//ChamberMaster//Event Calendar 2.0//EN
METHOD:PUBLISH
X-PUBLISHED-TTL:P3D
REFRESH-INTERVAL:P3D
CALSCALE:GREGORIAN
BEGIN:VEVENT
DTSTART:20141004T130000Z
DTEND:20141004T153000Z
X-MICROSOFT-CDO-ALLDAYEVENT:FALSE
SUMMARY:Retro Run 5k & One Mile Fun Run
DESCRIPTION:Good Samaritan Society-Kearney is having its first ever Retro Run 5K & One Mile Fun Run at Prairie View Gardens! There will be medals for 1st\, 2nd\, and 3rd place\, prizes and games\, sponsorship opportunities\, and refreshments. The best part? There will be a costume contest\, so come dressed in your favorite decade's attire! 100% of the funds raised from this event will go toward medical equipment\, which will be a tremendous help for the people who call Good Samaritan Society home. For more information and to register\, visit www.good-sam/pvg or contact Courtney at 308-865-2650.
X-ALT-DESC;FMTTYPE=text/html:Good Samaritan Society-Kearney is having its first ever Retro Run 5K &amp\; One Mile Fun Run at Prairie View Gardens! There will be medals for 1st\, 2nd\, and 3rd place\, prizes and games\, sponsorship opportunities\, and refreshments. The best part? There will be a costume contest\, so come dressed in your favorite decade's attire! 100% of the funds raised from this event will go toward medical equipment\, which will be a tremendous help for the people who call Good Samaritan Society home. For more information and to register\, visit www.good-sam/pvg or contact Courtney at 308-865-2650.
LOCATION:Prairie View Gardens 1705 Prairie View Place
UID:e.1404.5305
SEQUENCE:3
DTSTAMP:20260423T065806Z
URL:https://chambermaster.kearneycoc.org/events/details/retro-run-5k-one-mile-fun-run-10-04-2014-5305
END:VEVENT

END:VCALENDAR
