BEGIN:VCALENDAR
VERSION:2.0
PRODID:-//ChamberMaster//Event Calendar 2.0//EN
METHOD:PUBLISH
X-PUBLISHED-TTL:P3D
REFRESH-INTERVAL:P3D
CALSCALE:GREGORIAN
BEGIN:VEVENT
DTSTART:20130920T170000Z
DTEND:20130920T180000Z
X-MICROSOFT-CDO-ALLDAYEVENT:FALSE
SUMMARY:Ribbon Cutting: Amy Glenn State Farm Agency
DESCRIPTION:Join the Kearney Chamber and Amy Glenn\, Kearney's newest State Farm Agent\, for a RIbbon Cutting Ceremony at her new office (311 W 11th...next to Hunans).  Lunch will be served to all attendees!
X-ALT-DESC;FMTTYPE=text/html:Join the Kearney Chamber and Amy Glenn\, Kearney&#39\;s newest State Farm Agent\, for a RIbbon Cutting Ceremony at her new office (311 W 11th...next to Hunans). &nbsp\;Lunch will be served to all attendees!
LOCATION:311 W 11th Street (right next to Hunans).
UID:e.1404.3278
SEQUENCE:3
DTSTAMP:20260424T040819Z
URL:https://chambermaster.kearneycoc.org/events/details/ribbon-cutting-amy-glenn-state-farm-agency-09-20-2013-3278
END:VEVENT

END:VCALENDAR
