BEGIN:VCALENDAR
VERSION:2.0
PRODID:-//ChamberMaster//Event Calendar 2.0//EN
METHOD:PUBLISH
X-PUBLISHED-TTL:P3D
REFRESH-INTERVAL:P3D
CALSCALE:GREGORIAN
BEGIN:VEVENT
DTSTART:20130916T230000Z
DTEND:20130917T000000Z
X-MICROSOFT-CDO-ALLDAYEVENT:FALSE
SUMMARY:Ribbon Cutting: Fort Kearney Shooting Sports Association & Precision Training and Tactics
DESCRIPTION:Join us for a Ribbon Cutting/Open House Ceremony at Fort Kearney Shooting Sports Association and Precision Training and Tactics. Tours of the facility and the following will be given:  2- skeet fields\, four trap houses\, complete sporting clays range\, 5-stand and a rifle and pistol range. Precision Training will also give away prizes for free training. \n\n\n\nWith only having brick walls for our clubhouse\, this past year we have raised enough funds through private and grants and lot of volunteer hours to get our clubhouse done\, meeting space for up to 80 people\, full kitchen\, separate checkin area for shooters\, 2 bathrooms\, separate office space. Grass is planted all around the clubhouse\n\n \n\nWe are very proud of the finished project and there is another option for space rental for your group in the Kearney Area.
X-ALT-DESC;FMTTYPE=text/html:<span style="font-size:12px\;"><span style="font-family:arial\;"><span style="color:#1f497d\;">Join us for a Ribbon Cutting/Open House Ceremony at Fort Kearney Shooting Sports Association and Precision Training and Tactics. Tours of the facility and the following will be given:&nbsp\;</span><span style="color: rgb(68\, 68\, 68)\; line-height: 21px\;">&nbsp\;2- skeet fields\, four trap houses\, complete sporting clays range\, 5-stand and a rifle and pistol range. Precision Training will also give away prizes for free training.&nbsp\;</span><br />\n<br />\n<span style="color:#1f497d\;">With only having brick walls for our clubhouse\, this past year we have raised enough funds through private and grants and lot of volunteer hours to get our clubhouse done\, meeting space for up to 80 people\, full kitchen\, separate checkin area for shooters\, 2 bathrooms\, separate office space. Grass is planted all around the clubhouse</span><br />\n&nbsp\;<br />\n<span style="color:#1f497d\;">We are very proud of the finished project and there is another option for space rental for your group in the Kearney Area.</span></span></span><br />\n
LOCATION:https://maps.google.com/maps/ms?ie=UTF8&hl=en&t=h&s=AARTsJqRa6vyCyuTrpppllhOY2VECLJqYA&msa=0&msid=203781696420855720118.000450c53e26ae3825638&ll=40.797697\,-98.970337&spn=0.142946\,0.255775&z=12&vpsrc=0&iwloc=000450c541be2ac6fc2f0&f=d&daddr=Fort+Kearny+Shooting+Sports+Association+Range+%4040.786131\,-98.968921
UID:e.1404.3276
SEQUENCE:3
DTSTAMP:20260424T042911Z
URL:https://chambermaster.kearneycoc.org/events/details/ribbon-cutting-fort-kearney-shooting-sports-association-precision-training-and-tactics-09-16-2013-3276
END:VEVENT

END:VCALENDAR
