BEGIN:VCALENDAR
VERSION:2.0
PRODID:-//ChamberMaster//Event Calendar 2.0//EN
METHOD:PUBLISH
X-PUBLISHED-TTL:P3D
REFRESH-INTERVAL:P3D
CALSCALE:GREGORIAN
BEGIN:VEVENT
DTSTART:20130506T170000Z
DTEND:20130506T180000Z
X-MICROSOFT-CDO-ALLDAYEVENT:FALSE
SUMMARY:Ribbon Cutting/Grand Opening: Kowalski Chiropractic
DESCRIPTION:Join the Kearney Chamber for a ceremonial Ribbon Cutting & Grand Opening at Kowalski Chiropractic Health & Performance. A ligh lunch will be provided to attendees.
X-ALT-DESC;FMTTYPE=text/html:Join the Kearney Chamber for a ceremonial Ribbon Cutting &amp\; Grand Opening at Kowalski Chiropractic Health &amp\; Performance. A ligh lunch will be provided to attendees.
LOCATION:Located just to the north of the north Dairy Queen
UID:e.1404.3171
SEQUENCE:3
DTSTAMP:20260424T124959Z
URL:https://chambermaster.kearneycoc.org/events/details/ribbon-cutting-grand-opening-kowalski-chiropractic-05-06-2013-3171
END:VEVENT

END:VCALENDAR
