BEGIN:VCALENDAR
VERSION:2.0
PRODID:-//ChamberMaster//Event Calendar 2.0//EN
METHOD:PUBLISH
X-PUBLISHED-TTL:P3D
REFRESH-INTERVAL:P3D
CALSCALE:GREGORIAN
BEGIN:VEVENT
DTSTART:20130812T170000Z
DTEND:20130812T180000Z
X-MICROSOFT-CDO-ALLDAYEVENT:FALSE
SUMMARY:Ribbon Cutting: Ihle Chiropractic
DESCRIPTION:Join us for a Ribbon Cutting ceremony at Ihle Chiropractic's brand new location at 5110 2nd Ave\, Suite D.  Lunch will be provided and Dr. Ihle & his staff will be conducting office tours of the new facility.  Door prizes will also be awarded to select attendees.  See you at noon!
X-ALT-DESC;FMTTYPE=text/html:Join us for a Ribbon Cutting ceremony at Ihle Chiropractic&#39\;s brand new location at 5110 2nd Ave\, Suite D. &nbsp\;Lunch will be provided and Dr. Ihle &amp\; his staff will be conducting office tours of the new facility. &nbsp\;Door prizes will also be awarded to select attendees. &nbsp\;See you at noon!&nbsp\;
LOCATION:5110 2nd Ave\, Suite D (in the same strip as the new Verizon Store on the west side of the building)
UID:e.1404.3263
SEQUENCE:3
DTSTAMP:20260424T060800Z
URL:https://chambermaster.kearneycoc.org/events/details/ribbon-cutting-ihle-chiropractic-08-12-2013-3263
END:VEVENT

END:VCALENDAR
