BEGIN:VCALENDAR
VERSION:2.0
PRODID:-//ChamberMaster//Event Calendar 2.0//EN
METHOD:PUBLISH
X-PUBLISHED-TTL:P3D
REFRESH-INTERVAL:P3D
CALSCALE:GREGORIAN
BEGIN:VEVENT
DTSTART:20121018T220000Z
DTEND:20121019T000000Z
X-MICROSOFT-CDO-ALLDAYEVENT:FALSE
SUMMARY:Ribbon Cutting: K-Town Cakes & More
DESCRIPTION:Come help Kearney's newest bakery celebrate their recent opening with a Ribbon Cutting ceremony
X-ALT-DESC;FMTTYPE=text/html:Come help Kearney&#39\;s newest bakery celebrate their recent opening with a Ribbon Cutting ceremony
LOCATION:2300 Central Avenue
UID:e.1404.2192
SEQUENCE:3
DTSTAMP:20260425T020113Z
URL:https://chambermaster.kearneycoc.org/events/details/ribbon-cutting-k-town-cakes-more-10-18-2012-2192
END:VEVENT

END:VCALENDAR
