BEGIN:VCALENDAR
VERSION:2.0
PRODID:-//ChamberMaster//Event Calendar 2.0//EN
METHOD:PUBLISH
X-PUBLISHED-TTL:P3D
REFRESH-INTERVAL:P3D
CALSCALE:GREGORIAN
BEGIN:VEVENT
DTSTART:20130521T200000Z
DTEND:20130521T210000Z
X-MICROSOFT-CDO-ALLDAYEVENT:FALSE
SUMMARY:Ribbon Cutting: Nebraska Safety Center Driving Range
DESCRIPTION:The Nebraska Safety Center (NSC) CDL Training Program is hosting a Ribbon Cutting Tuesday\, May 21\, 2013 at 3:00 pm at the Ron and Carol Cope Nebraska Center for Safety Education and Research Driving Range\, 1801 W Railroad Street\, Kearney NE.\n\n	 The NSC CDL Program offers a Commercial Driver's License Basic Knowledge Course\, CDL Third Party Testing Services\, Professional Truck Driver Defensive Driving Course\, and Professional Truck Driver Training Courses.\n\n	For more information contact Dennis Holtz (308) 865-8562 or holtzde@unk.edu.
X-ALT-DESC;FMTTYPE=text/html:<div style="margin:0\;">\n	<span lang="en-US"><font face="Calibri\,sans-serif" size="2"><span style="font-size:11pt\;">The Nebraska Safety Center (NSC) CDL Training Program is hosting a Ribbon Cutting Tuesday\, May 21\, 2013 at 3:00 pm at the Ron and Carol Cope Nebraska Center for Safety Education and Research Driving Range\, 1801 W Railroad Street\, Kearney NE.</span></font></span></div>\n<div style="margin:0\;">\n	<span lang="en-US"><font face="Calibri\,sans-serif" size="2"><span style="font-size:11pt\;">&nbsp\;The NSC CDL Program offers a Commercial Driver&#39\;s License Basic Knowledge Course\, CDL Third Party Testing Services\, Professional Truck Driver Defensive Driving Course\, and Professional Truck Driver Training Courses.</span></font></span></div>\n<div style="margin:0\;">\n	<span lang="en-US"><font face="Calibri\,sans-serif" size="2"><span style="font-size:11pt\;">For more information contact Dennis Holtz (308) 865-8562 or <a href="https://sn2prd0710.outlook.com/owa/redir.aspx?C=BCbNMSzNJkSC0FfWFkAj1s4UrReJI9AIXCOZhw8oFZiKGh-BjyRlAhTyYZ99zRS5O36rrECQAN0.&amp\;URL=mailto%3aholtzde%40unk.edu" target="_blank">holtzde@unk.edu</a>.</span></font></span></div>\n
LOCATION:Nebraska Safety Center Driving Range 1801 W Railroad St. Kearney\, NE
UID:e.1404.3203
SEQUENCE:3
DTSTAMP:20260424T124837Z
URL:https://chambermaster.kearneycoc.org/events/details/ribbon-cutting-nebraska-safety-center-driving-range-05-21-2013-3203
END:VEVENT

END:VCALENDAR
