BEGIN:VCALENDAR
VERSION:2.0
PRODID:-//ChamberMaster//Event Calendar 2.0//EN
METHOD:PUBLISH
X-PUBLISHED-TTL:P3D
REFRESH-INTERVAL:P3D
CALSCALE:GREGORIAN
BEGIN:VEVENT
DTSTART:20130322T170000Z
DTEND:20130322T180000Z
X-MICROSOFT-CDO-ALLDAYEVENT:FALSE
SUMMARY:Ribbon Cutting/Open House: Credit Management
DESCRIPTION:Come see Credit Management's new branch location with a ceremonial ribbon cutting.  Lunch will be served to all attendees.
X-ALT-DESC;FMTTYPE=text/html:Come see Credit Management&#39\;s new branch location with a ceremonial ribbon cutting. &nbsp\;Lunch will be served to all attendees.
LOCATION:412 W 48th Street\, Suite 18
UID:e.1404.2234
SEQUENCE:3
DTSTAMP:20260424T160025Z
URL:https://chambermaster.kearneycoc.org/events/details/ribbon-cutting-open-house-credit-management-03-22-2013-2234
END:VEVENT

END:VCALENDAR
