BEGIN:VCALENDAR
VERSION:2.0
PRODID:-//ChamberMaster//Event Calendar 2.0//EN
METHOD:PUBLISH
X-PUBLISHED-TTL:P3D
REFRESH-INTERVAL:P3D
CALSCALE:GREGORIAN
BEGIN:VEVENT
DTSTART:20121115T230000Z
DTEND:20121116T000000Z
X-MICROSOFT-CDO-ALLDAYEVENT:FALSE
SUMMARY:Ribbon Cutting/Open House: FuturesOne
DESCRIPTION:Join us for a Ribbon Cutting & Open House for FuturesOne at 5:00 PM on Thursday\, November 15th.  Appetizers and beverages will be served to all attendees. \n\n\n\nFuturesOne will also be giving away 2 tickets to the Nebraska/Minnesota (game is November 17th) game to one lucky attendee.
X-ALT-DESC;FMTTYPE=text/html:Join us for a Ribbon Cutting &amp\; Open House for FuturesOne at 5:00 PM on Thursday\, November 15th.&nbsp\; Appetizers and beverages will be served to all attendees.&nbsp\;<br />\n<br />\nFuturesOne will also be giving away 2 tickets to the Nebraska/Minnesota (game is November 17th) game to one lucky attendee.
LOCATION:5810 2nd Avenue West\, Suite B
UID:e.1404.2206
SEQUENCE:3
DTSTAMP:20260424T223630Z
URL:https://chambermaster.kearneycoc.org/events/details/ribbon-cutting-open-house-futuresone-11-15-2012-2206
END:VEVENT

END:VCALENDAR
