BEGIN:VCALENDAR
VERSION:2.0
PRODID:-//ChamberMaster//Event Calendar 2.0//EN
METHOD:PUBLISH
X-PUBLISHED-TTL:P3D
REFRESH-INTERVAL:P3D
CALSCALE:GREGORIAN
BEGIN:VEVENT
DTSTART:20130314T220000Z
DTEND:20130315T000000Z
X-MICROSOFT-CDO-ALLDAYEVENT:FALSE
SUMMARY:Ribbon Cutting/Open House: State Bank of Riverdale
DESCRIPTION:Join us for a Ribbon Cutting/Open House at State Bank of Riverdale's brand new Kearney facility on East 56th Street
X-ALT-DESC;FMTTYPE=text/html:Join us for a Ribbon Cutting/Open House at State Bank of Riverdale&#39\;s brand new Kearney facility on East 56th Street
LOCATION:
UID:e.1404.2223
SEQUENCE:3
DTSTAMP:20260424T160149Z
URL:https://chambermaster.kearneycoc.org/events/details/ribbon-cutting-open-house-state-bank-of-riverdale-03-14-2013-2223
END:VEVENT

END:VCALENDAR
