BEGIN:VCALENDAR
VERSION:2.0
PRODID:-//ChamberMaster//Event Calendar 2.0//EN
METHOD:PUBLISH
X-PUBLISHED-TTL:P3D
REFRESH-INTERVAL:P3D
CALSCALE:GREGORIAN
BEGIN:VEVENT
DTSTART:20130417T220000Z
DTEND:20130417T230000Z
X-MICROSOFT-CDO-ALLDAYEVENT:FALSE
SUMMARY:Ribbon Cutting: Principal Financial - Brenda Roetman
DESCRIPTION:Join us for a Ribbon Cutting/Open House for Kearney's newest Principal Financial Office\, operated by Brenda Roetman and located in the St. James Square (124 W 25th Street\, Suite B-1)
X-ALT-DESC;FMTTYPE=text/html:Join us for a Ribbon Cutting/Open House for Kearney&#39\;s newest Principal Financial Office\, operated by Brenda Roetman and located in the St. James Square (124 W 25th Street\, Suite B-1)
LOCATION:St James Square (124 W 25th Street\, Suite B-1)
UID:e.1404.2259
SEQUENCE:3
DTSTAMP:20260424T142656Z
URL:https://chambermaster.kearneycoc.org/events/details/ribbon-cutting-principal-financial-brenda-roetman-04-17-2013-2259
END:VEVENT

END:VCALENDAR
