BEGIN:VCALENDAR
VERSION:2.0
PRODID:-//ChamberMaster//Event Calendar 2.0//EN
METHOD:PUBLISH
X-PUBLISHED-TTL:P3D
REFRESH-INTERVAL:P3D
CALSCALE:GREGORIAN
BEGIN:VEVENT
DTSTART:20130424T220000Z
DTEND:20130424T230000Z
X-MICROSOFT-CDO-ALLDAYEVENT:FALSE
SUMMARY:Ribbon Cutting: Sozo American Cuisine
DESCRIPTION:Join us for a ceremonial Ribbon Cutting at Kearney's newest restaurant\, Sozo American Cuisine
X-ALT-DESC;FMTTYPE=text/html:Join us for a ceremonial Ribbon Cutting at Kearney&#39\;s newest restaurant\, Sozo American Cuisine
LOCATION:Sozo is attached to the Holiday Inn & Convention Center. It was previously Legacy 272
UID:e.1404.3169
SEQUENCE:3
DTSTAMP:20260424T142453Z
URL:https://chambermaster.kearneycoc.org/events/details/ribbon-cutting-sozo-american-cuisine-04-24-2013-3169
END:VEVENT

END:VCALENDAR
