BEGIN:VCALENDAR
VERSION:2.0
PRODID:-//ChamberMaster//Event Calendar 2.0//EN
METHOD:PUBLISH
X-PUBLISHED-TTL:P3D
REFRESH-INTERVAL:P3D
CALSCALE:GREGORIAN
BEGIN:VEVENT
DTSTART:20131022T220000Z
DTEND:20131023T000000Z
X-MICROSOFT-CDO-ALLDAYEVENT:FALSE
SUMMARY:Ribbon Cutting: Vertical Focus Realty/ Kearney Rental Pros
DESCRIPTION:Please join us as we celebrate the new location of Vertical Focus Realty/ Kearney Rental Pros for a Ribbon Cutting.
X-ALT-DESC;FMTTYPE=text/html:Please join us as we celebrate the new location of Vertical Focus Realty/ Kearney Rental Pros for a Ribbon Cutting.&nbsp\;
LOCATION:Ingall's Crossing 5609 1st Avenue Suite D Kearney\, NE 68847
UID:e.1404.3307
SEQUENCE:3
DTSTAMP:20260424T021015Z
URL:https://chambermaster.kearneycoc.org/events/details/ribbon-cutting-vertical-focus-realty-kearney-rental-pros-10-22-2013-3307
END:VEVENT

END:VCALENDAR
