BEGIN:VCALENDAR
VERSION:2.0
PRODID:-//ChamberMaster//Event Calendar 2.0//EN
METHOD:PUBLISH
X-PUBLISHED-TTL:P3D
REFRESH-INTERVAL:P3D
CALSCALE:GREGORIAN
BEGIN:VEVENT
DTSTART:20121116T010000Z
DTEND:20121116T030000Z
X-MICROSOFT-CDO-ALLDAYEVENT:FALSE
SUMMARY:Rich Little's "Jimmy Stewart & Friends"
DESCRIPTION:Rich Little's "Jimmy Stewart" & Friends" will take you on an adventure through the life of famed Jimmy Stewart featuring more than 25 celebrity icon voices including Cary Grant\, George Burns\, Catherine Hepburn and many more!
X-ALT-DESC;FMTTYPE=text/html:Rich Little&#39\;s &quot\;Jimmy Stewart&quot\; &amp\; Friends&quot\; will take you on an adventure through the life of famed Jimmy Stewart featuring more than 25 celebrity icon voices including Cary Grant\, George Burns\, Catherine Hepburn and many more!
LOCATION:Merryman Performing Arts Center 225 W. 22nd St.\, Kearney NE 68845
UID:e.1404.1951
SEQUENCE:3
DTSTAMP:20260424T223845Z
URL:https://chambermaster.kearneycoc.org/events/details/rich-little-s-jimmy-stewart-friends-11-15-2012-1951
END:VEVENT

END:VCALENDAR
