BEGIN:VCALENDAR
VERSION:2.0
PRODID:-//ChamberMaster//Event Calendar 2.0//EN
METHOD:PUBLISH
X-PUBLISHED-TTL:P3D
REFRESH-INTERVAL:P3D
CALSCALE:GREGORIAN
BEGIN:VEVENT
DTSTART:20210814T143000Z
DTEND:20210814T163000Z
X-MICROSOFT-CDO-ALLDAYEVENT:FALSE
SUMMARY:Roadway Heroes
DESCRIPTION:Roadway Heroes gives children a unique opportunity to meet community helpers\, see their favorite vehicles up close\, and enjoy fun activity stations!\n\n\n\nSpecial Activities Include:\n\nSoccer Ball Waterfall from a Front Loader at 10:30am\n\nFood Truck (coffee\, iced lattes\, root beer floats\, ice cream)\n\nSlow Down\, Move Over (Tow Truck Safety)\n\nand More!
X-ALT-DESC;FMTTYPE=text/html:<span style="color:rgb(74\, 74\, 74)\; font-family:poppins\; font-size:14px">Roadway Heroes gives children a unique opportunity to meet community helpers\, see their favorite vehicles up close\, and enjoy fun activity stations!<br />\n<br />\nSpecial Activities Include:<br />\nSoccer Ball Waterfall from a Front Loader at 10:30am<br />\nFood Truck (coffee\, iced lattes\, root beer floats\, ice cream)<br />\nSlow Down\, Move Over (Tow Truck Safety)<br />\nand More!</span><br />\n&nbsp\;
LOCATION:Buffalo County Fairgrounds 3807 Avenue N\, Kearney\, NE 68847
UID:e.1404.19358
SEQUENCE:3
DTSTAMP:20260424T035755Z
URL:https://chambermaster.kearneycoc.org/events/details/roadway-heroes-08-14-2021-19358
END:VEVENT

END:VCALENDAR
