BEGIN:VCALENDAR
VERSION:2.0
PRODID:-//ChamberMaster//Event Calendar 2.0//EN
METHOD:PUBLISH
X-PUBLISHED-TTL:P3D
REFRESH-INTERVAL:P3D
CALSCALE:GREGORIAN
BEGIN:VEVENT
DTSTART:20190810T150000Z
DTEND:20190810T173000Z
X-MICROSOFT-CDO-ALLDAYEVENT:FALSE
SUMMARY:Roadway Heroes
DESCRIPTION:Roadway Heroes gives children a unique opportunity to meet community helpers and see their favorite vehicles up close\, and enjoy fun activity stations!\n\n\n\nIf you choose to purchase tickets at the event they will be CASH ONLY. Thank you!\n\n\n\nLoud Noises: Please be aware there is the potential for loud noises at the event such as horns or sirens. Children can honk horns inside specific vehicles while others will be "silent." Feel free to bring headphones for your child if needed.
X-ALT-DESC;FMTTYPE=text/html:Roadway Heroes gives children a unique opportunity to meet community helpers and see their favorite vehicles up close\, and enjoy fun activity stations!<br />\n<br />\nIf you choose to purchase tickets at the event they will be CASH ONLY. Thank you!<br />\n<br />\nLoud Noises: Please be aware there is the potential for loud noises at the event such as horns or sirens. Children can honk horns inside specific vehicles while others will be &ldquo\;silent.&rdquo\; Feel free to bring headphones for your child if needed.
LOCATION:Buffalo Country Fairgrounds 3807 Avenue N Kearney\, 68847
UID:e.1404.16592
SEQUENCE:3
DTSTAMP:20260425T212931Z
URL:https://chambermaster.kearneycoc.org/events/details/roadway-heroes-16592
END:VEVENT

END:VCALENDAR
