BEGIN:VCALENDAR
VERSION:2.0
PRODID:-//ChamberMaster//Event Calendar 2.0//EN
METHOD:PUBLISH
X-PUBLISHED-TTL:P3D
REFRESH-INTERVAL:P3D
CALSCALE:GREGORIAN
BEGIN:VEVENT
DTSTART:20190515T230000Z
DTEND:20190516T010000Z
X-MICROSOFT-CDO-ALLDAYEVENT:FALSE
SUMMARY:Rock the Block with Schrock
DESCRIPTION:Food Truck Rally and Schrock Medical Clinic Giving Kick Off. Kearney - Food trucks\, family\, and fun is the plan for the Rock the Block with Schrock Party. The event will be stationed at Schrock Medical Clinic\, 1616 West 39th St\, Kearney on Wed May 15th from 6PM to 8PM. There will be several food trucks including\, Tropical Sno\, NE Burger\, The Food Truck\, Burgos Queen\, Big Red Donuts and More. May the best food truck win is bragging rights. There will also be inflatables for children. The clinic will also provide tours to guests. The event will kick off "Schrock's Giving\," in order to announce the clinic's first donor recipient of $2\,500. The clinic will donate to one charity each month\, totaling $30\,000. For more information about the truck rally or Schrock's Giving\, contact Heather Riggleman\, Practice Representative at heatherr@schrockchiropractic.com or (308) -236-6499
X-ALT-DESC;FMTTYPE=text/html:Food Truck Rally and Schrock Medical Clinic Giving Kick Off. Kearney - Food trucks\, family\, and fun is the plan for the Rock the Block with Schrock Party. The event will be stationed at Schrock Medical Clinic\, 1616 West 39th St\, Kearney on Wed May 15th from 6PM to 8PM. There will be several food trucks including\, Tropical Sno\, NE Burger\, The Food Truck\, Burgos Queen\, Big Red Donuts and More. May the best food truck win is bragging rights. There will also be inflatables for children. The clinic will also provide tours to guests. The event will kick off &quot\;Schrock&#39\;s Giving\,&quot\; in order to announce the clinic&#39\;s first donor recipient of $2\,500. The clinic will donate to one charity each month\, totaling $30\,000. For more information about the truck rally or Schrock&#39\;s Giving\, contact Heather Riggleman\, Practice Representative at heatherr@schrockchiropractic.com or (308) -236-6499
LOCATION:Schrock Medical Clinic 1616 W 39th St Kearney\, NE 68845
UID:e.1404.15965
SEQUENCE:3
DTSTAMP:20260426T021705Z
URL:https://chambermaster.kearneycoc.org/events/details/rock-the-block-with-schrock-15965
END:VEVENT

END:VCALENDAR
