BEGIN:VCALENDAR
VERSION:2.0
PRODID:-//ChamberMaster//Event Calendar 2.0//EN
METHOD:PUBLISH
X-PUBLISHED-TTL:P3D
REFRESH-INTERVAL:P3D
CALSCALE:GREGORIAN
BEGIN:VEVENT
DTSTART:20141123T190000Z
DTEND:20141123T230000Z
X-MICROSOFT-CDO-ALLDAYEVENT:FALSE
SUMMARY:Santa Parade and Petting Zoo at Hilltop Mall
DESCRIPTION:Santa is coming to the Hilltop Mall on November 23rd for the Candy Cane Parade. But before he makes an appearance\, there will be Christmas coloring\, ornament decorating\, gingerbread house competitions\, and even a petting zoo from 1pm-3pm! Santa will be making an entrance at 3pm where he will parade around the parking lot with reindeer while the children follow behind. Then the parade will continue through the mall where the kids can wave to all the stores. Once everyone meets back in front of the Old Navy store\, Santa will read a book to all the children and pass around stockings full of surprises. There will be a gingerbread house competition that people can register for and bring their pre-built masterpieces in from 1-2pm to be judged by our ?Celeb? judges. The celebrity judges will also have to build their own gingerbread houses\, but in a shorter amount of time with an audience watching intently (2:30pm).
X-ALT-DESC;FMTTYPE=text/html:Santa is coming to the Hilltop Mall on November 23rd for the Candy Cane Parade. But before he makes an appearance\, there will be Christmas coloring\, ornament decorating\, gingerbread house competitions\, and even a petting zoo from 1pm-3pm! Santa will be making an entrance at 3pm where he will parade around the parking lot with reindeer while the children follow behind. Then the parade will continue through the mall where the kids can wave to all the stores. Once everyone meets back in front of the Old Navy store\, Santa will read a book to all the children and pass around stockings full of surprises. There will be a gingerbread house competition that people can register for and bring their pre-built masterpieces in from 1-2pm to be judged by our ?Celeb? judges. The celebrity judges will also have to build their own gingerbread houses\, but in a shorter amount of time with an audience watching intently (2:30pm).
LOCATION:Hilltop Mall 5011 2nd Ave Kearney\, NE 68847
UID:e.1404.5407
SEQUENCE:3
DTSTAMP:20260423T070214Z
URL:https://chambermaster.kearneycoc.org/events/details/santa-parade-and-petting-zoo-at-hilltop-mall-11-23-2014-5407
END:VEVENT

END:VCALENDAR
