BEGIN:VCALENDAR
VERSION:2.0
PRODID:-//ChamberMaster//Event Calendar 2.0//EN
METHOD:PUBLISH
X-PUBLISHED-TTL:P3D
REFRESH-INTERVAL:P3D
CALSCALE:GREGORIAN
BEGIN:VEVENT
DTSTART:20161008T153000Z
DTEND:20161008T170000Z
X-MICROSOFT-CDO-ALLDAYEVENT:FALSE
SUMMARY:Science Saturday\, "Drone Discovery"
DESCRIPTION:Science Saturday Saturday\, October 8\, 2016 10:30am\, 11:00am\, 11:30am Attend this FREE\, fun for all ages\, family program! "Drone Discovery" This year's National 4-H Science Experiment explores the science behind drones and how they are being used to solve real world problems. Youth will learn everything from flight dynamics and aircraft types\, to remote sensing and flight control\, as well as safety and regulations.
X-ALT-DESC;FMTTYPE=text/html:Science Saturday Saturday\, October 8\, 2016 10:30am\, 11:00am\, 11:30am Attend this FREE\, fun for all ages\, family program! &ldquo\;Drone Discovery&rdquo\; This year&rsquo\;s National 4-H Science Experiment explores the science behind drones and how they are being used to solve real world problems. Youth will learn everything from flight dynamics and aircraft types\, to remote sensing and flight control\, as well as safety and regulations.
LOCATION:Raising Nebraska Nebraska State Fairgrounds Nebraska Building
UID:e.1404.9053
SEQUENCE:3
DTSTAMP:20260421T140018Z
URL:https://chambermaster.kearneycoc.org/events/details/science-saturday-drone-discovery-9053
END:VEVENT

END:VCALENDAR
