BEGIN:VCALENDAR
VERSION:2.0
PRODID:-//ChamberMaster//Event Calendar 2.0//EN
METHOD:PUBLISH
X-PUBLISHED-TTL:P3D
REFRESH-INTERVAL:P3D
CALSCALE:GREGORIAN
BEGIN:VEVENT
DTSTART:20160503T220000Z
DTEND:20160503T230000Z
X-MICROSOFT-CDO-ALLDAYEVENT:FALSE
SUMMARY:Senator Fischer Community Coffee
DESCRIPTION:These community coffees serve as convenient opportunities for local Nebraskans to hear updates on Senator Fischer's work and speak with her in a more informal setting. members of the media are welcome to attend.
X-ALT-DESC;FMTTYPE=text/html:These community coffees serve as convenient opportunities for local Nebraskans to hear updates on Senator Fischer&#39\;s work and speak with her in a more informal setting. members of the media are welcome to attend.
LOCATION:Ramada Inn 301 2nd Ave.
UID:e.1404.8738
SEQUENCE:3
DTSTAMP:20260421T215927Z
URL:https://chambermaster.kearneycoc.org/events/details/senator-fischer-community-coffee-05-03-2016-8738
END:VEVENT

END:VCALENDAR
