BEGIN:VCALENDAR
VERSION:2.0
PRODID:-//ChamberMaster//Event Calendar 2.0//EN
METHOD:PUBLISH
X-PUBLISHED-TTL:P3D
REFRESH-INTERVAL:P3D
CALSCALE:GREGORIAN
BEGIN:VEVENT
DTSTART:20220322T150000Z
DTEND:20220322T160000Z
X-MICROSOFT-CDO-ALLDAYEVENT:FALSE
SUMMARY:Senior Coalition
DESCRIPTION:Chair: Jackie Purdy\n\nMeeting Schedule: 4th Tuesday of each month at 10:00 a.m.\n\n\n\nFor March\, we will get to experience one of Kearney's newest restaurants\, which opened in April of 2021\, Billy Jacks Pizza Pub located at 810 3rd Ave (formerly Spaghetti Shop and Taco John's) on the 22nd at 10:00 a.m.\n\nJoin us as we check out the specially designed kitchen area\, as well as learn more about the many menu options available.  They redefine the landscape of fast-casual with extremely fast pizza\, subs\, salads\, and a new breakfast menu.  They also offer a full bar with a frosty rail\, big screen tv's\, and Keno!  Coffee and food will be provided!\n\n\n\nThe purpose of the Senior Coalition is to offer monthly community education to the retired community.\n\nThis committee is open to all retired (or age of retirement) Kearney Chamber Members. To inquire about joining this group\, contact Heather Ullman\, hullman@kearneycoc\,org\, or join us for one of our meetings.
X-ALT-DESC;FMTTYPE=text/html:<b style="color: rgb(0\, 0\, 0)\; font-family: Helvetica\, Arial\, sans-serif\;">Chair:</b><span style="color: rgb(0\, 0\, 0)\; font-family: Helvetica\, Arial\, sans-serif\;">&nbsp\;Jackie Purdy</span><br style="color: rgb(0\, 0\, 0)\; font-family: Helvetica\, Arial\, sans-serif\;" />\n<b style="color: rgb(0\, 0\, 0)\; font-family: Helvetica\, Arial\, sans-serif\;">Meeting Schedule:</b><span style="color: rgb(0\, 0\, 0)\; font-family: Helvetica\, Arial\, sans-serif\;">&nbsp\;4th Tuesday of each month at 10:00 a.m.</span><br style="color: rgb(0\, 0\, 0)\; font-family: Helvetica\, Arial\, sans-serif\;" />\n<br />\nFor March\, we will get to experience one of Kearney&#39\;s newest restaurants\, which opened in April of 2021\, Billy Jacks Pizza Pub located at <span style="color: rgb(32\, 33\, 36)\; font-family: Roboto\, arial\, sans-serif\; font-size: 14px\;">810 3rd Ave (formerly Spaghetti Shop and Taco John&#39\;s)&nbsp\;</span>on the 22nd at 10:00 a.m.<br />\nJoin us as we check out the specially designed kitchen area\, as well as learn more about the many menu options available.&nbsp\; They redefine the landscape of fast-casual with extremely fast pizza\, subs\, salads\, and a new breakfast menu.&nbsp\; They also offer a full bar with a frosty rail\, big screen tv&#39\;s\, and Keno!&nbsp\; Coffee and food will be provided!<br />\n<br style="color: rgb(0\, 0\, 0)\; font-family: Helvetica\, Arial\, sans-serif\;" />\n<span style="color: rgb(0\, 0\, 0)\; font-family: Helvetica\, Arial\, sans-serif\;">The purpose of the Senior Coalition is to offer monthly community education to the retired community.</span><br style="color: rgb(0\, 0\, 0)\; font-family: Helvetica\, Arial\, sans-serif\;" />\n<span style="color: rgb(0\, 0\, 0)\; font-family: Helvetica\, Arial\, sans-serif\;">This committee is open to all retired (or age of retirement) Kearney Chamber Members. To inquire about joining this group\, contact Heather Ullman\, <a href="mailto:hullman@kearneycoc.org">hullman@kearneycoc\,org</a>\,&nbsp\;</span><span style="color: rgb(0\, 0\, 0)\; font-family: Helvetica\, Arial\, sans-serif\;">or join us for one of our meetings.</span>
LOCATION:810 3rd Ave\, Kearney NE
UID:e.1404.5767
SEQUENCE:3
DTSTAMP:20260423T163104Z
URL:https://chambermaster.kearneycoc.org/events/details/senior-coalition-03-22-2022-5767
END:VEVENT

END:VCALENDAR
