BEGIN:VCALENDAR
VERSION:2.0
PRODID:-//ChamberMaster//Event Calendar 2.0//EN
METHOD:PUBLISH
X-PUBLISHED-TTL:P3D
REFRESH-INTERVAL:P3D
CALSCALE:GREGORIAN
BEGIN:VEVENT
DTSTART:20220823T150000Z
DTEND:20220823T160000Z
X-MICROSOFT-CDO-ALLDAYEVENT:FALSE
SUMMARY:Senior Coalition
DESCRIPTION:Chair: Jackie Purdy\n\nMeeting Schedule: 4th Tuesday of each month at 10:00 a.m.\n\n\n\nJoin us this month as we visit the Classic Car Collection\, located at 3600 E Hwy 30\, Suite B (Behind Cabela's on the northeast side)\n\nCome see the collection of over 200 automobiles that illustrate the evolution and art of the automobile and its role in our lives.\n\n\n\nCoffee and cookies will be provided.\n\n\n\n**All future post cards will be mailed by request only\, please contact us to keep receiving post cards. Email notifications will continue to be sent out. \n\n\n\n\n\nThe purpose of the Senior Coalition is to offer monthly community education to the retired community.\n\n\n\nThis committee is open to all retired (or age of retirement) Kearney Chamber Members. To inquire about joining this group\, contact Heather Ullman\, hullman@kearneycoc\,org\, or join us for one of our meetings.
X-ALT-DESC;FMTTYPE=text/html:<b style="color: rgb(0\, 0\, 0)\; font-family: Helvetica\, Arial\, sans-serif\;">Chair:</b><span style="color: rgb(0\, 0\, 0)\; font-family: Helvetica\, Arial\, sans-serif\;">&nbsp\;Jackie Purdy</span><br style="color: rgb(0\, 0\, 0)\; font-family: Helvetica\, Arial\, sans-serif\;" />\n<b style="color: rgb(0\, 0\, 0)\; font-family: Helvetica\, Arial\, sans-serif\;">Meeting Schedule:</b><span style="color: rgb(0\, 0\, 0)\; font-family: Helvetica\, Arial\, sans-serif\;">&nbsp\;4th Tuesday of each month at 10:00 a.m.</span><br />\n<br />\nJoin us this month as we visit the Classic Car Collection\, located at 3600 E Hwy 30\, Suite B (Behind Cabela&rsquo\;s on the northeast side)<br />\nCome see the collection of over 200 automobiles that illustrate the evolution and art of the automobile and its role in our lives.<br />\n<br />\nCoffee and cookies will be provided.<br />\n<br />\n<span style="color:#FF0000\;"><strong>**All future post cards will be mailed by request only\, please contact us to keep receiving post cards. Email notifications will continue to be sent out.&nbsp\;</strong></span><br />\n<br style="color: rgb(0\, 0\, 0)\; font-family: Helvetica\, Arial\, sans-serif\;" />\n<br style="color: rgb(0\, 0\, 0)\; font-family: Helvetica\, Arial\, sans-serif\;" />\n<span style="color: rgb(0\, 0\, 0)\; font-family: Helvetica\, Arial\, sans-serif\;">The purpose of the Senior Coalition is to offer monthly community education to the retired community.</span><br style="color: rgb(0\, 0\, 0)\; font-family: Helvetica\, Arial\, sans-serif\;" />\n<br style="color: rgb(0\, 0\, 0)\; font-family: Helvetica\, Arial\, sans-serif\;" />\n<span style="color: rgb(0\, 0\, 0)\; font-family: Helvetica\, Arial\, sans-serif\;">This committee is open to all retired (or age of retirement) Kearney Chamber Members. To inquire about joining this group\, contact Heather Ullman\, <a href="mailto:hullman@kearneycoc.org">hullman@kearneycoc\,org</a>\,&nbsp\;</span><span style="color: rgb(0\, 0\, 0)\; font-family: Helvetica\, Arial\, sans-serif\;">or join us for one of our meetings.</span>
LOCATION:Classic Car Collection 3600 E Hwy 30\, Suite B (Behind Cabela's on the northeast side)
UID:e.1404.5772
SEQUENCE:3
DTSTAMP:20260421T115530Z
URL:https://chambermaster.kearneycoc.org/events/details/senior-coalition-08-23-2022-5772
END:VEVENT

END:VCALENDAR
