BEGIN:VCALENDAR
VERSION:2.0
PRODID:-//ChamberMaster//Event Calendar 2.0//EN
METHOD:PUBLISH
X-PUBLISHED-TTL:P3D
REFRESH-INTERVAL:P3D
CALSCALE:GREGORIAN
BEGIN:VEVENT
DTSTART:20211130T160000Z
DTEND:20211130T170000Z
X-MICROSOFT-CDO-ALLDAYEVENT:FALSE
SUMMARY:Senior Coalition
DESCRIPTION:Chair: Jackie Purdy\n\nMeeting at 10:00 a.m. on Tuesday\, November 30th at Buffalo County Historical Society/ Trails & Rails Museum\n\nJoin us on Tuesday\, November 30th\, at the Trails and Rails Museum\, located at 710 W. 11th Street in Kearney.  View the beautiful Christmas Trees on display\, enjoy refreshments\, and learn all the details before voting on the upcoming Indoor Sports Complex.  \n\n\n\nThe purpose of the Senior Coalition is to offer monthly community education to the retired community.\n\nThis committee is open to all retired (or age of retirement) Kearney Chamber Members. To inquire about joining this group\, contact Heather Ullman at hullman@kearneycoc.org or join us for one of our meetings.
X-ALT-DESC;FMTTYPE=text/html:<span style="font-family:arial\;"><span style="color:#000000\;"><b style="color: rgb(0\, 0\, 0)\; font-family: Helvetica\, Arial\, sans-serif\;">Chair:</b>&nbsp\;Jackie Purdy<br style="color: rgb(0\, 0\, 0)\; font-family: Helvetica\, Arial\, sans-serif\;" />\n<b style="color: rgb(0\, 0\, 0)\; font-family: Helvetica\, Arial\, sans-serif\;">Meeting at 10:00 a.m. on Tuesday\, November 30th at Buffalo County Historical Society/ Trails &amp\; Rails Museum</b><br style="color: rgb(0\, 0\, 0)\; font-family: Helvetica\, Arial\, sans-serif\;" />\nJoin us on Tuesday\, November 30th\, at the Trails and Rails Museum\, located at 710 W. 11th Street in Kearney.&nbsp\; View the beautiful Christmas Trees on display\, enjoy refreshments\, and learn all the details before voting on the upcoming Indoor Sports Complex.&nbsp\;&nbsp\;<br />\n<br style="color: rgb(0\, 0\, 0)\; font-family: Helvetica\, Arial\, sans-serif\;" />\nThe purpose of the Senior Coalition is to offer monthly community education to the retired community.<br style="color: rgb(0\, 0\, 0)\; font-family: Helvetica\, Arial\, sans-serif\;" />\nThis committee is open to all retired (or age of retirement) Kearney Chamber Members. To inquire about joining this group\, contact Heather Ullman at </span><a href="mailto:hullman@kearneycoc.org"><span style="color:#000000\;">hullman</span></a><a href="mailto:acope@kearneycoc.org"><span style="color:#000000\;">@kearneycoc.org</span></a><span style="color:#000000\;">&nbsp\;or join us for one of our meetings.</span></span>
LOCATION:Trails & Rails Museum 710 W. 11th St. Kearney\, NE 68848
UID:e.1404.5763
SEQUENCE:3
DTSTAMP:20260423T231855Z
URL:https://chambermaster.kearneycoc.org/events/details/senior-coalition-11-23-2021-5763
END:VEVENT

END:VCALENDAR
