BEGIN:VCALENDAR
VERSION:2.0
PRODID:-//ChamberMaster//Event Calendar 2.0//EN
METHOD:PUBLISH
X-PUBLISHED-TTL:P3D
REFRESH-INTERVAL:P3D
CALSCALE:GREGORIAN
BEGIN:VEVENT
DTSTART:20190825T190000Z
DTEND:20190825T203000Z
X-MICROSOFT-CDO-ALLDAYEVENT:FALSE
SUMMARY:Senior College Fall Open House
DESCRIPTION:Join us for the Fall Semester Open House. Enjoy free refreshments and listen to instructors preview their classes at 2:15 pm. Register for fall classes while you visit with other lifelong learners.
X-ALT-DESC;FMTTYPE=text/html:Join us for the Fall Semester Open House. Enjoy free refreshments and listen to instructors preview their classes at 2:15 pm. Register for fall classes while you visit with other lifelong learners.
LOCATION:Kearney Public Library 2020 1st Ave Kearney\, NE
UID:e.1404.16643
SEQUENCE:3
DTSTAMP:20260425T213018Z
URL:https://chambermaster.kearneycoc.org/events/details/senior-college-fall-open-house-16643
END:VEVENT

END:VCALENDAR
