BEGIN:VCALENDAR
VERSION:2.0
PRODID:-//ChamberMaster//Event Calendar 2.0//EN
METHOD:PUBLISH
X-PUBLISHED-TTL:P3D
REFRESH-INTERVAL:P3D
CALSCALE:GREGORIAN
BEGIN:VEVENT
DTSTART:20220713T000000Z
DTEND:20220713T043000Z
X-MICROSOFT-CDO-ALLDAYEVENT:FALSE
SUMMARY:Shinedown with Aaron Jones
DESCRIPTION:Shinedown with Aaron Jones\, Tuesday\, July 12th\, Viaero Center\, Kearney\, Nebraska
X-ALT-DESC;FMTTYPE=text/html:Shinedown with Aaron Jones\, Tuesday\, July 12th\, Viaero Center\, Kearney\, Nebraska
LOCATION:Viaero Center\, Kearney\, Nebraska
UID:e.1404.19756
SEQUENCE:3
DTSTAMP:20260421T133723Z
URL:https://chambermaster.kearneycoc.org/events/details/shinedown-with-aaron-jones-19756
END:VEVENT

END:VCALENDAR
