BEGIN:VCALENDAR
VERSION:2.0
PRODID:-//ChamberMaster//Event Calendar 2.0//EN
METHOD:PUBLISH
X-PUBLISHED-TTL:P3D
REFRESH-INTERVAL:P3D
CALSCALE:GREGORIAN
BEGIN:VEVENT
DTSTART:20130413T140000Z
DTEND:20130413T210000Z
X-MICROSOFT-CDO-ALLDAYEVENT:FALSE
SUMMARY:Signs of Spring Craft and Trade Show
DESCRIPTION:
X-ALT-DESC;FMTTYPE=text/html:
LOCATION:Buffalo County Fairgrounds\, EXPO\, 3807 Avenue N\, Kearney\, NE
UID:e.1404.2218
SEQUENCE:3
DTSTAMP:20260424T142640Z
URL:https://chambermaster.kearneycoc.org/events/details/signs-of-spring-craft-and-trade-show-04-13-2013-2218
END:VEVENT

END:VCALENDAR
