BEGIN:VCALENDAR
VERSION:2.0
PRODID:-//ChamberMaster//Event Calendar 2.0//EN
METHOD:PUBLISH
X-PUBLISHED-TTL:P3D
REFRESH-INTERVAL:P3D
CALSCALE:GREGORIAN
BEGIN:VEVENT
DTSTART:20220409T140000Z
DTEND:20220409T210000Z
X-MICROSOFT-CDO-ALLDAYEVENT:FALSE
SUMMARY:Signs of Spring Craft & Trade Show
DESCRIPTION:Attend the largest spring show in the area filled with all kinds of crafts\, trades\, food vendors and so much more! Come enjoy the entertainment from Don Richmond throughout the day.
X-ALT-DESC;FMTTYPE=text/html:Attend the largest spring show in the area filled with all kinds of crafts\, trades\, food vendors and so much more! Come enjoy the entertainment from Don Richmond throughout the day.
LOCATION:3807 Ave N Buffalo County Fairgrounds EXPO Kearney
UID:e.1404.19657
SEQUENCE:3
DTSTAMP:20260423T163920Z
URL:https://chambermaster.kearneycoc.org/events/details/signs-of-spring-craft-trade-show-19657
END:VEVENT

END:VCALENDAR
