BEGIN:VCALENDAR
VERSION:2.0
PRODID:-//ChamberMaster//Event Calendar 2.0//EN
METHOD:PUBLISH
X-PUBLISHED-TTL:P3D
REFRESH-INTERVAL:P3D
CALSCALE:GREGORIAN
BEGIN:VEVENT
DTSTART;VALUE=DATE:20161126
DTEND;VALUE=DATE:20161127
TRANSP:TRANSPARENT
X-MICROSOFT-CDO-ALLDAYEVENT:TRUE
SUMMARY:Small Business Saturday
DESCRIPTION:Shopsmall.com/ACCESocial
X-ALT-DESC;FMTTYPE=text/html:<a class="twitter-timeline-link" data-expanded-url="http://Shopsmall.com/ACCESocial" dir="ltr" href="https://t.co/8F07jnM7W0" rel="nofollow" style="color: rgb(0\, 132\, 180)\; outline: 0px\; font-family: Arial\, sans-serif\; font-size: 14px\; line-height: 18px\; white-space: pre-wrap\; background: rgb(245\, 248\, 250)\;" target="_blank" title="http://Shopsmall.com/ACCESocial"><span class="js-display-url">Shopsmall.com/ACCESocial</span><span class="tco-ellipsis"><span class="invisible" style="font-size: 0px\; line-height: 0\;">&nbsp\;</span></span></a>
LOCATION:
UID:e.1404.8933
SEQUENCE:3
DTSTAMP:20260421T122749Z
URL:https://chambermaster.kearneycoc.org/events/details/small-business-saturday-11-26-2016-8933
END:VEVENT

END:VCALENDAR
