BEGIN:VCALENDAR
VERSION:2.0
PRODID:-//ChamberMaster//Event Calendar 2.0//EN
METHOD:PUBLISH
X-PUBLISHED-TTL:P3D
REFRESH-INTERVAL:P3D
CALSCALE:GREGORIAN
BEGIN:VEVENT
DTSTART;VALUE=DATE:20211127
DTEND;VALUE=DATE:20211128
TRANSP:TRANSPARENT
X-MICROSOFT-CDO-ALLDAYEVENT:TRUE
SUMMARY:Small Business Saturday on the Bricks
DESCRIPTION:Support small and local businesses in Kearney on the Bricks all year long especially on Small Business Saturday on November 27th to keep dollars circulating in Kearney's historic district! Be one of the first shoppers and get a reusable shopping bag to gather good finds at participating businesses! Visit our website or Facebook page for a list of participating businesses. See you there!
X-ALT-DESC;FMTTYPE=text/html:Support small and local businesses in Kearney on the Bricks all year long especially on Small Business Saturday on November 27th to keep dollars circulating in Kearney&#39\;s historic district! Be one of the first shoppers and get a reusable shopping bag to gather good finds at participating businesses! Visit our website or Facebook page for a list of participating businesses. See you there!
LOCATION:Downtown Kearney
UID:e.1404.19461
SEQUENCE:3
DTSTAMP:20260423T233209Z
URL:https://chambermaster.kearneycoc.org/events/details/small-business-saturday-on-the-bricks-11-27-2021-19461
END:VEVENT

END:VCALENDAR
