BEGIN:VCALENDAR
VERSION:2.0
PRODID:-//ChamberMaster//Event Calendar 2.0//EN
METHOD:PUBLISH
X-PUBLISHED-TTL:P3D
REFRESH-INTERVAL:P3D
CALSCALE:GREGORIAN
BEGIN:VEVENT
DTSTART;VALUE=DATE:20151218
DTEND;VALUE=DATE:20151219
TRANSP:TRANSPARENT
X-MICROSOFT-CDO-ALLDAYEVENT:TRUE
SUMMARY:Smartphones 101
DESCRIPTION:SMARTPHONES 101\n\nStop by to learn how to get the most out of your mobile device or tablet. Great for new to advanced smart phone users.  We will discuss both android and apple phones and will have time for questions.\n\n  Snacks and drinks will be provided and everyone that attends will be entered into a drawing for our giveaway.
X-ALT-DESC;FMTTYPE=text/html:<p><span style="font-size: 10pt\; font-family: Tahoma\, sans-serif\;">SMARTPHONES 101<o:p></o:p></span></p>\n\n<p><span style="font-family: Tahoma\, sans-serif\; font-size: 10pt\; line-height: 1.6\;">Stop by to learn how to get the most out of your mobile device or tablet.&nbsp\;Great for new to advanced&nbsp\;smart phone users.&nbsp\; We will discuss both android and apple phones and will have time for questions.</span></p>\n\n<p><span style="font-size: 10pt\; font-family: Tahoma\, sans-serif\;">&nbsp\;</span><span style="font-size: 10pt\; font-family: Tahoma\, sans-serif\;">&nbsp\;</span><span style="font-family: Tahoma\, sans-serif\; font-size: 10pt\;">Snacks and drinks will be provided and everyone that attends will be entered into a drawing for our giveaway.</span></p>\n
LOCATION:Viaero Campus Store 1920 24th St
UID:e.1404.7230
SEQUENCE:3
DTSTAMP:20260422T064626Z
URL:https://chambermaster.kearneycoc.org/events/details/smartphones-101-12-18-2015-7230
END:VEVENT

END:VCALENDAR
