BEGIN:VCALENDAR
VERSION:2.0
PRODID:-//ChamberMaster//Event Calendar 2.0//EN
METHOD:PUBLISH
X-PUBLISHED-TTL:P3D
REFRESH-INTERVAL:P3D
CALSCALE:GREGORIAN
BEGIN:VEVENT
DTSTART:20160924T003000Z
DTEND:20160925T210000Z
X-MICROSOFT-CDO-ALLDAYEVENT:FALSE
SUMMARY:Songs from the Movies - presented by Crane River Theater
DESCRIPTION:Songs from the Movies The World Theatre 2318 Central Avenue   Kearney\, NE 68847 September 23-24   7:30 pm September 25   2 pm Tickets: $10 General Admission Tickets available at The World Theatre Box Office\, www.CraneRiverTheater.org\, or by calling 308-627-5796. A concert featuring live performances of classic songs from all your favorite films! Crane River Theater is excited to reprise our fall Destination Series at the World Theatre with Songs from the Movies. This high-spirited concert production will feature live performances of timeless songs from all of your favorite films of the past seven decades. Crane River Theater alumni Corbin Williams\, Rutheah Rodehorst\, Levi Lawson\, Ashley West and Brian Botsford will take the stage singing Eye of the Tiger\, Purple Rain\, Ghostbusters\, I Will Always Love You\, Stand By Me\, The Wind Beneath My Wings\, Skyfall and many others. It is sure to be an evening that will bring back many memories.
X-ALT-DESC;FMTTYPE=text/html:Songs from the Movies The World Theatre 2318 Central Avenue &bull\; Kearney\, NE 68847 September 23-24 &bull\; 7:30 pm September 25 &bull\; 2 pm Tickets: $10 General Admission Tickets available at The World Theatre Box Office\, www.CraneRiverTheater.org\, or by calling 308-627-5796. A concert featuring live performances of classic songs from all your favorite films! Crane River Theater is excited to reprise our fall Destination Series at the World Theatre with Songs from the Movies. This high-spirited concert production will feature live performances of timeless songs from all of your favorite films of the past seven decades. Crane River Theater alumni Corbin Williams\, Rutheah Rodehorst\, Levi Lawson\, Ashley West and Brian Botsford will take the stage singing Eye of the Tiger\, Purple Rain\, Ghostbusters\, I Will Always Love You\, Stand By Me\, The Wind Beneath My Wings\, Skyfall and many others. It is sure to be an evening that will bring back many memories.
LOCATION:The World Theatre 2318 Central Avenue Kearney\, NE 68847
UID:e.1404.9024
SEQUENCE:3
DTSTAMP:20260421T155323Z
URL:https://chambermaster.kearneycoc.org/events/details/songs-from-the-movies-presented-by-crane-river-theater-9024
END:VEVENT

END:VCALENDAR
