BEGIN:VCALENDAR
VERSION:2.0
PRODID:-//ChamberMaster//Event Calendar 2.0//EN
METHOD:PUBLISH
X-PUBLISHED-TTL:P3D
REFRESH-INTERVAL:P3D
CALSCALE:GREGORIAN
BEGIN:VEVENT
DTSTART:20190627T230000Z
DTEND:20190628T020000Z
X-MICROSOFT-CDO-ALLDAYEVENT:FALSE
SUMMARY:Sounds of Summer
DESCRIPTION:Gather your friends and join in the fun! Enjoy a lovely evening the fourth Thursday of the month with friends at "Sounds of Summer" in MONA's Cliff Hillegass Outdoor Sculpture Garden. We provide the music along with tables and chairs. You are welcome to bring a picnic\, including beverages of your choice! Thursday\, June 27   Shelia Greenland Band MONA's Cliff Hillegass Sculpture Garden Gate opens at 6:00 p.m.   Music 7:00-9:00 p.m. Contributions are appreciated when we "pass the hat" to keep admission free.
X-ALT-DESC;FMTTYPE=text/html:Gather your friends and join in the fun! Enjoy a lovely evening the fourth Thursday of the month with friends at &ldquo\;Sounds of Summer&rdquo\; in MONA&rsquo\;s Cliff Hillegass Outdoor Sculpture Garden. We provide the music along with tables and chairs. You are welcome to bring a picnic\, including beverages of your choice! Thursday\, June 27 &bull\; Shelia Greenland Band MONA&rsquo\;s Cliff Hillegass Sculpture Garden Gate opens at 6:00 p.m. &bull\; Music 7:00-9:00 p.m. Contributions are appreciated when we &ldquo\;pass the hat&rdquo\; to keep admission free.
LOCATION:Museum of Nebraska Art 2401 Central Avenue Kearney\, NE 68847 (308) 865-8559
UID:e.1404.16496
SEQUENCE:3
DTSTAMP:20260426T004623Z
URL:https://chambermaster.kearneycoc.org/events/details/sounds-of-summer-06-27-2019-16496
END:VEVENT

END:VCALENDAR
