BEGIN:VCALENDAR
VERSION:2.0
PRODID:-//ChamberMaster//Event Calendar 2.0//EN
METHOD:PUBLISH
X-PUBLISHED-TTL:P3D
REFRESH-INTERVAL:P3D
CALSCALE:GREGORIAN
BEGIN:VEVENT
DTSTART:20160412T140000Z
DTEND:20160412T150000Z
X-MICROSOFT-CDO-ALLDAYEVENT:FALSE
SUMMARY:Spring Cleaning: Tidy Up Wireless Devices
DESCRIPTION:Now that spring is in full swing\, people tackle closets\, basements\, garages and attics to check off tasks from their seasonal cleaning list. It?s also an ideal time to evaluate the performance of wireless devices. If a tablet battery won't hold a charge or your smartphone has slowed down\, it may be time to manage memory\, replace batteries or upgrade to a new device. U.S. Cellular will host a free Device Workshop in Kearney that will show attendees how to maintain their devices for optimum functionality and determine when a replacement is needed. The workshop is open to everyone. Smartphone owners don't have to be a U.S. Cellular customer to attend. With the latest devices and a network that keeps users connected across the country\, U.S. Cellular wants to ensure users' smartphones and tablets are working efficiently to simplify and enhance their lives\, said Erryn Andersen\, U.S. Cellular's director of sales in Nebraska and Iowa. Our associates can offer advice for how to manage devices and when to upgrade. Please call 308-236-2075 for more information about this and upcoming Device Workshops.
X-ALT-DESC;FMTTYPE=text/html:Now that spring is in full swing\, people tackle closets\, basements\, garages and attics to check off tasks from their seasonal cleaning list. It?s also an ideal time to evaluate the performance of wireless devices. If a tablet battery won&#39\;t hold a charge or your smartphone has slowed down\, it may be time to manage memory\, replace batteries or upgrade to a new device. U.S. Cellular will host a free Device Workshop in Kearney that will show attendees how to maintain their devices for optimum functionality and determine when a replacement is needed. The workshop is open to everyone. Smartphone owners don&#39\;t have to be a U.S. Cellular customer to attend. With the latest devices and a network that keeps users connected across the country\, U.S. Cellular wants to ensure users&#39\; smartphones and tablets are working efficiently to simplify and enhance their lives\, said Erryn Andersen\, U.S. Cellular&#39\;s director of sales in Nebraska and Iowa. Our associates can offer advice for how to manage devices and when to upgrade. Please call 308-236-2075 for more information about this and upcoming Device Workshops.
LOCATION:U.S. Cellular 4623 Second Ave. Kearney\, NE 68847
UID:e.1404.8566
SEQUENCE:3
DTSTAMP:20260421T235423Z
URL:https://chambermaster.kearneycoc.org/events/details/spring-cleaning-tidy-up-wireless-devices-04-12-2016-8566
END:VEVENT

END:VCALENDAR
