BEGIN:VCALENDAR
VERSION:2.0
PRODID:-//ChamberMaster//Event Calendar 2.0//EN
METHOD:PUBLISH
X-PUBLISHED-TTL:P3D
REFRESH-INTERVAL:P3D
CALSCALE:GREGORIAN
BEGIN:VEVENT
DTSTART:20150717T150000Z
DTEND:20150717T190000Z
X-MICROSOFT-CDO-ALLDAYEVENT:FALSE
SUMMARY:Staff Retreat
DESCRIPTION:
X-ALT-DESC;FMTTYPE=text/html:
LOCATION:
UID:e.1404.6636
SEQUENCE:3
DTSTAMP:20260422T151533Z
URL:https://chambermaster.kearneycoc.org/events/details/staff-retreat-07-17-2015-6636
END:VEVENT

END:VCALENDAR
