BEGIN:VCALENDAR
VERSION:2.0
PRODID:-//ChamberMaster//Event Calendar 2.0//EN
METHOD:PUBLISH
X-PUBLISHED-TTL:P3D
REFRESH-INTERVAL:P3D
CALSCALE:GREGORIAN
BEGIN:VEVENT
DTSTART:20140726T140000Z
DTEND:20140727T050000Z
X-MICROSOFT-CDO-ALLDAYEVENT:FALSE
SUMMARY:Strollin' for Streeters
DESCRIPTION:Strollin' for Streeters is a 1 mile/5k walk/run event for any and all ages. This benefit is for Denise and Mike Streeter. Mike Streeter is a vietnam veteran who was recently diagnosed with Parkinson's. He is the man who put together and takes care of the overpass east of town showing the support of all veterans with the flags. Denise Streeter is an office manager at Dandee Concrete and was recently diagnosed with Leukemia and has to have a life saving bone marrow transplant. Please come out and help support this wonderful couple that has been married 38 years this year! Following the race in the morning will be a Free Will Donation dinner/Silent Auction at the VFW Club on 1st Street. This will begin at 6:00 pm.
X-ALT-DESC;FMTTYPE=text/html:Strollin&#39\; for Streeters is a 1 mile/5k walk/run event for any and all ages. This benefit is for Denise and Mike Streeter. Mike Streeter is a vietnam veteran who was recently diagnosed with Parkinson&#39\;s. He is the man who put together and takes care of the overpass east of town showing the support of all veterans with the flags. Denise Streeter is an office manager at Dandee Concrete and was recently diagnosed with Leukemia and has to have a life saving bone marrow transplant. Please come out and help support this wonderful couple that has been married 38 years this year! Following the race in the morning will be a Free Will Donation dinner/Silent Auction at the VFW Club on 1st Street. This will begin at 6:00 pm.
LOCATION:Yanney Heritage Park
UID:e.1404.5156
SEQUENCE:3
DTSTAMP:20260423T115958Z
URL:https://chambermaster.kearneycoc.org/events/details/strollin-for-streeters-07-26-2014-5156
END:VEVENT

END:VCALENDAR
